BEGIN:VCALENDAR
PRODID:-//eluceo/ical//2.0/EN
VERSION:2.0
CALSCALE:GREGORIAN
BEGIN:VEVENT
UID:e6fc032ada9260c6acb1db30e997e4d5
DTSTAMP:20260420T022936Z
SUMMARY:LaLeLuja! Die 30 Jahre-Jubiläumstour
DESCRIPTION:LaLeLu
DTSTART;TZID=Europe/Berlin:20260508T200000
DTEND;TZID=Europe/Berlin:20260508T220000
LOCATION:Alfred-Rust-Saal\, Wulfsdorfer Weg 71\, 22926 Ahrensburg
ORGANIZER;CN=Theater und Musik in Ahrensburg e.V.:mailto:kontakt@theater-un
 d-musik-in-ahrensburg.de
END:VEVENT
END:VCALENDAR
